Workbook
Name AC: progetti!$J$2:$J$12
Name Area: progetti!$G$2:$G$7
Name AS: progetti!$I$2:$I$13
Name D: progetti!$K$2:$K$14
Name IC: ELENCO!$C$2:$C$190
Name INF_NS: ELENCO!$D$2:$D$536
Name IP: progetti!$L$2:$L$13
Name IS: ELENCO!$K$2:$K$39
Name Lista1: ELENCO!$L$2:$L$3
Name MED: ELENCO!$H$2:$H$44
Name MED_NS: ELENCO!$G$2:$G$82
Name MUNICIPIO: ELENCO!$M$2:$M$16
Name PRIM: ELENCO!$F$2:$F$4
Name PRIM_NS: ELENCO!$E$2:$E$163
Name progetto: ELENCO!$N$2:$N$6
Name RMEE00700R: 'elenco sedi'!$GE$2:$GE$7
Name RMIC80200G: 'elenco sedi'!$A$2:$A$4
Name RMIC80300B: 'elenco sedi'!$B$2:$B$3
Name RMIC804007: 'elenco sedi'!$C$1:$C$4
Name RMIC805003: 'elenco sedi'!$D$1:$D$5
Name RMIC80600V: 'elenco sedi'!$E$1:$E$8
Name RMIC80700P: 'elenco sedi'!$F$1:$F$9
Name RMIC80800E: 'elenco sedi'!$G$1:$G$5
Name RMIC81000E: 'elenco sedi'!$H$1:$H$5
Name RMIC81100A: 'elenco sedi'!$I$1:$I$6
Name RMIC812006: 'elenco sedi'!$J$1:$J$5
Name RMIC813002: 'elenco sedi'!$K$1:$K$7
Name RMIC81400T: 'elenco sedi'!$L$1:$L$4
Name RMIC81500N: 'elenco sedi'!$M$1:$M$3
Name RMIC81600D: 'elenco sedi'!$N$1:$N$3
Name RMIC817009: 'elenco sedi'!$O$1:$O$4
Name RMIC818005: 'elenco sedi'!$P$1:$P$5
Name RMIC819001: 'elenco sedi'!$Q$1:$Q$6
Name RMIC820005: 'elenco sedi'!$R$1:$R$11
Name RMIC821001: 'elenco sedi'!$S$1:$S$3
Name RMIC82200R: 'elenco sedi'!$T$1:$T$4
Name RMIC82300L: 'elenco sedi'!$U$1:$U$5
Name RMIC82400C: 'elenco sedi'!$V$1:$V$4
Name RMIC825008: 'elenco sedi'!$W$1:$W$4
Name RMIC826004: 'elenco sedi'!$X$1:$X$4
Name RMIC82700X: 'elenco sedi'!$Y$1:$Y$5
Name RMIC82800Q: 'elenco sedi'!$Z$1:$Z$5
Name RMIC82900G: 'elenco sedi'!$AA$1:$AA$8
Name RMIC83000Q: 'elenco sedi'!$AB$1:$AB$5
Name RMIC83100G: 'elenco sedi'!$AC$1:$AC$6
Name RMIC83200B: 'elenco sedi'!$AD$1:$AD$4
Name RMIC833007: 'elenco sedi'!$AE$1:$AE$5
Name RMIC834003: 'elenco sedi'!$AF$1:$AF$5
Name RMIC83500V: 'elenco sedi'!$AG$1:$AG$3
Name RMIC83600P: 'elenco sedi'!$AH$1:$AH$4
Name RMIC83700E: 'elenco sedi'!$AI$1:$AI$6
Name RMIC839006: 'elenco sedi'!$AJ$1:$AJ$7
Name RMIC84000A: 'elenco sedi'!$AK$1:$AK$4
Name RMIC841006: 'elenco sedi'!$AL$1:$AL$7
Name RMIC842002: 'elenco sedi'!$AM$1:$AM$4
Name RMIC84300T: 'elenco sedi'!$AN$1:$AN$4
Name RMIC84400N: 'elenco sedi'!$AO$1:$AO$8
Name RMIC84500D: 'elenco sedi'!$AP$1:$AP$3
Name RMIC846009: 'elenco sedi'!$AQ$1:$AQ$9
Name RMIC847005: 'elenco sedi'!$AR$1:$AR$5

Sheet Scheda ADESIONE
G3: A Roma Capitale
G4: Dipartimento Servizi Educativi e Scolastici
G5: catalogopof.scuola@comune.roma.it
D7: SCHEDA DI ADESIONE Progetti a.s. 2018/19
C10: Il/La sottoscritto/a: | L10: ISTITUTO COMPRENSIVO STATALE | M10: IC
C11: In qualità di: | L11: SCUOLA INFANZIA NON STATALE | M11: INF_NS
L12: SCUOLA PRIMARIA NON STATALE | M12: PRIM_NS
L13: SCUOLA PRIMARIA STATALE | M13: PRIM
D14: Tipo di Istituto: | I14: =VLOOKUP(E14,$L$10:$M$18,2,FALSE) -> #N/A | L14: SCUOLA SEC. PRIMO GRADO NON STATALE | M14: MED_NS
D15: Codice Meccanografico dell'Istituto: | I15: =IF((VLOOKUP($G$15,IP!$A:$G,7,FALSE))=E14,0,1) -> #N/A | L15: SCUOLA SEC. PRIMO GRADO STATALE | M15: MED
D16: Municipio: | L16: SCUOLA SEC. SECONDO GRADO NON STATALE | M16: SEC_NS
D17: Nome Istituto: | E17: =IF(ISBLANK(G15)=TRUE," - ",VLOOKUP(G15,IP!$A:$H,3,FALSE)) -> - | L17: SCUOLA SEC. SECONDO GRADO STATALE | M17: SEC
D18: Indirizzo: | E18: =IF(ISBLANK(G15)=TRUE," - ",VLOOKUP(G15,IP!$A:$H,4,FALSE)) -> - | L18: ISTITUTO DI ISTRUZIONE SUPERIORE | M18: IS
D19: Telefono:
D20: Email: | E20: =IF(ISBLANK(G15)=TRUE," - ",VLOOKUP(G15,IP!$A:$H,8,FALSE)) -> - | I20: nd
D21: Se l'indirizzo email risulta Non disponibile, indicare un indirizzo da utilizzare per le future comunicazioni:
C24: Intende aderire ai progetti:
D25: Area Tematica | E25: Titolo progetto | L25: =VLOOKUP(D26,progetti!$G$2:$H$7,2,FALSE) -> #N/A
C26: Progetto 1 | I26: =IF((VLOOKUP(E26,progetti!$A:$B,2,FALSE))=D26,0,1) -> #N/A | L26: =VLOOKUP(D27,progetti!$G$2:$H$7,2,FALSE) -> #N/A
C27: Progetto 2 | I27: =IF((VLOOKUP(E27,progetti!$A:$B,2,FALSE))=D27,0,1) -> #N/A | L27: =VLOOKUP(D28,progetti!$G$2:$H$7,2,FALSE) -> #N/A
C28: Progetto 3 | I28: =IF((VLOOKUP(E28,progetti!$A:$B,2,FALSE))=D28,0,1) -> #N/A | L28: =VLOOKUP(D29,progetti!$G$2:$H$7,2,FALSE) -> #N/A
C29: Progetto 4 | I29: =IF((VLOOKUP(E29,progetti!$A:$B,2,FALSE))=D29,0,1) -> #N/A | L29: =VLOOKUP(D30,progetti!$G$2:$H$7,2,FALSE) -> #N/A
C30: Progetto 5 | I30: =IF((VLOOKUP(E30,progetti!$A:$B,2,FALSE))=D30,0,1) -> #N/A
C32: NOTE
C33: Istruzioni per la compilazione dei moduli di adesione
C34: Nel presente modulo e nella scheda di dettaglio partecipazione, devono essere compilati i campi in azzurro; i campi in grigio si completeranno automaticamente a partire dal codice meccanografico selezionato. Alcuni controlli automatici sui dati immessi aiuteranno nella compilazione segnalando dati incoerenti o da inserire. Nella scheda dettaglio di partecipazione è visibile un esempio di inserimento dei dati nella prima riga
C35: Il/la sottoscritto/a esprime il proprio consenso all'utilizzo dei dati contenuti nella presente autocertificazione esclusivamente nell'ambito e per i fini istituzionali propri della Pubblica Amministrazione (D.lgs 30 giugno 2003 n. 196 - Codice di protezione dei dati personali).
C37: Data | G37: Timbro e Firma del Dirigente Scolastico

Sheet DETTAGLIO PARTECIPAZIONE
A1: Selezionare il Codice progetto indicato nella scheda di adesione | B1: Area progetto (il campo si completerà automaticamente selezionando il codice del progetto riportato nella 'scheda adesione') | C1: Nome progetto (il campo si completerà automaticamente selezionando il codice del progetto riportato nella 'scheda adesione') | D1: Se il progetto selezionato è 'La Scuola Adotta un monumento', indicare il monumento che si intende adottare | E1: Tipo di Istituto Principale (il campo di completerà automaticamente) | F1: Codice Meccanografico Istituto Principale (il campo di completerà automaticamente) | G1: Municipio (il campo di completerà automaticamente) | H1: Nome Istituto (il campo di completerà automaticamente) | I1: Indirizzo (il campo di completerà automaticamente) | J1: Telefono (il campo di completerà automaticamente) | K1: Email (il campo di completerà automaticamente) | L1: Selezionare il codice della sede partecipante (se non sono previste sedi per l'istituto selezionato, la cella non sarà attiva) | M1: NOTE per la partecipazione al progetto | N1: Livello sede (il campo di completerà automaticamente) | O1: Nome sede (il campo di completerà automaticamente) | P1: Indirizzo sede (il campo di completerà automaticamente) | Q1: Email sede (il campo di completerà automaticamente) | R1: Indicare un indirizzo email valido nel caso in cui l'indirizzo email per la sede selezionata non fosse disponibile o non fosse corretto | S1: Indicare il numero totale delle classi della sede indicata partecipanti al progetto selezionato | T1: Indicare le classi partecipanti (es: 1a, 3c oppure tutte le sezioni) | U1: Indicare il numero totale degli studenti delle classi indicate partecipanti al progetto | V1: Nome referente per le classi indicate (se è necessario indicare referenti diversi per classi diverse, creare una riga per ciascun referente indicando i dati delle relative classi assegnate) | W1: Cognome referente per le classi indicate (se è necessario indicare referenti diversi per classi diverse, creare una riga per ciascun referente indicando i dati delle relative classi assegnate) | X1: Telefono referente | Y1: Email referente | Z1: NOTE | AB1: controllo sede | AC1: controllo2
A2: Progetto X | B2: Esempio A | C2: Supporto alla compilazione della scheda 'Dettagli di partecipazione' | D2: La fontana di Piazza Verdi | E2: ISTITUTO COMPRENSIVO | F2: RMICXXXXXX | G2: v | H2: Scuola Roma | I2: Piazza Verdi, 5 - 00100 - Roma | J2: 06/123456 - 06/987654 | K2: RMICXXXXXX@istruzione.it | L2: RMMMXXXXXX | M2: Scuole secondarie di II grado (1 anno) | N2: SCUOLA SEC. SECONDO GRADO STATALE | O2: Verdi | P2: Piazza Verdi, 5 - 00100 - Roma | Q2: RMMMXXXXXX@istruzione.it | R2: piazzaverdi@roma.it | S2: 3 | T2: 1A, 1B, 1D | U2: 75 | V2: Mario | W2: Rossi | X2: 347/12345 | Y2: mario.rossi@prova.it | Z2: Nella classe 1A è presente un alunno con disabilità motoria grave
B3: =IF(ISBLANK(A3)=TRUE," - ",VLOOKUP(A3,'Scheda ADESIONE'!$C$26:$H$35,2,FALSE)) -> - | C3: =IF(ISBLANK(A3)=TRUE," - ",VLOOKUP(A3,'Scheda ADESIONE'!$C$26:$H$35,3,FALSE)) -> - | E3: =IF(ISBLANK(A3)=TRUE," - ",'Scheda ADESIONE'!$E$14) -> - | F3: =IF(ISBLANK($A3)=TRUE," - ",'Scheda ADESIONE'!$G$15) -> - | G3: =IF(ISBLANK($A3)=TRUE," - ",'Scheda ADESIONE'!$G$16) -> - | H3: =IF(ISBLANK($A3)=TRUE," - ",'Scheda ADESIONE'!$E$17) -> - | I3: =IF(ISBLANK($A3)=TRUE," - ",'Scheda ADESIONE'!$E$18) -> - | J3: =IF(ISBLANK($A3)=TRUE," - ",'Scheda ADESIONE'!$E$19) -> - | K3: =IF(ISBLANK($A3)=TRUE," - ",IF('Scheda ADESIONE'!$E$20="Non Disponibile",'Scheda ADESIONE'!$E$22,'Scheda ADESIONE'!$E$20)) -> - | M3: =IF((ISBLANK(A3)=TRUE)," - ",VLOOKUP(C3,progetti!$A:$C,3,FALSE)) -> - | N3: =IF((ISBLANK($L3)=FALSE),VLOOKUP($L3,SEDI!$D:$K,7,FALSE)," - ") -> - | O3: =IF((ISBLANK($L3)=FALSE),VLOOKUP($L3,SEDI!$D:$K,2,FALSE)," - ") -> - | P3: =IF((ISBLANK($L3)=FALSE),VLOOKUP($L3,SEDI!$D:$K,3,FALSE)," - ") -> - | Q3: =IF((ISBLANK($L3)=FALSE),VLOOKUP($L3,SEDI!$D:$M,10,FALSE)," - ") -> - | AB3: =VLOOKUP(L3,SEDI!D:E,2,FALSE) -> #N/A | AC3: =IF(AB3=F3,0,1) -> #N/A
B4: =IF(ISBLANK(A4)=TRUE," - ",VLOOKUP(A4,'Scheda ADESIONE'!$C$26:$H$35,2,FALSE)) -> - | C4: =IF(ISBLANK(A4)=TRUE," - ",VLOOKUP(A4,'Scheda ADESIONE'!$C$26:$H$35,3,FALSE)) -> - | E4: =IF(ISBLANK(A4)=TRUE," - ",'Scheda ADESIONE'!$E$14) -> - | F4: =IF(ISBLANK($A4)=TRUE," - ",'Scheda ADESIONE'!$G$15) -> - | G4: =IF(ISBLANK($A4)=TRUE," - ",'Scheda ADESIONE'!$G$16) -> - | H4: =IF(ISBLANK($A4)=TRUE," - ",'Scheda ADESIONE'!$E$17) -> - | I4: =IF(ISBLANK($A4)=TRUE," - ",'Scheda ADESIONE'!$E$18) -> - | J4: =IF(ISBLANK($A4)=TRUE," - ",'Scheda ADESIONE'!$E$19) -> - | K4: =IF(ISBLANK($A4)=TRUE," - ",IF('Scheda ADESIONE'!$E$20="Non Disponibile",'Scheda ADESIONE'!$E$22,'Scheda ADESIONE'!$E$20)) -> - | M4: =IF((ISBLANK(A4)=TRUE)," - ",VLOOKUP(C4,progetti!$A:$C,3,FALSE)) -> - | N4: =IF((ISBLANK($L4)=FALSE),VLOOKUP($L4,SEDI!$D:$K,7,FALSE)," - ") -> - | O4: =IF((ISBLANK($L4)=FALSE),VLOOKUP($L4,SEDI!$D:$K,2,FALSE)," - ") -> - | P4: =IF((ISBLANK($L4)=FALSE),VLOOKUP($L4,SEDI!$D:$K,3,FALSE)," - ") -> - | Q4: =IF((ISBLANK($L4)=FALSE),VLOOKUP($L4,SEDI!$D:$M,10,FALSE)," - ") -> - | AB4: =VLOOKUP(L4,SEDI!D:E,2,FALSE) -> #N/A | AC4: =IF(AB4=F4,0,1) -> #N/A
B5: =IF(ISBLANK(A5)=TRUE," - ",VLOOKUP(A5,'Scheda ADESIONE'!$C$26:$H$35,2,FALSE)) -> - | C5: =IF(ISBLANK(A5)=TRUE," - ",VLOOKUP(A5,'Scheda ADESIONE'!$C$26:$H$35,3,FALSE)) -> - | E5: =IF(ISBLANK(A5)=TRUE," - ",'Scheda ADESIONE'!$E$14) -> - | F5: =IF(ISBLANK($A5)=TRUE," - ",'Scheda ADESIONE'!$G$15) -> - | G5: =IF(ISBLANK($A5)=TRUE," - ",'Scheda ADESIONE'!$G$16) -> - | H5: =IF(ISBLANK($A5)=TRUE," - ",'Scheda ADESIONE'!$E$17) -> - | I5: =IF(ISBLANK($A5)=TRUE," - ",'Scheda ADESIONE'!$E$18) -> - | J5: =IF(ISBLANK($A5)=TRUE," - ",'Scheda ADESIONE'!$E$19) -> - | K5: =IF(ISBLANK($A5)=TRUE," - ",IF('Scheda ADESIONE'!$E$20="Non Disponibile",'Scheda ADESIONE'!$E$22,'Scheda ADESIONE'!$E$20)) -> - | M5: =IF((ISBLANK(A5)=TRUE)," - ",VLOOKUP(C5,progetti!$A:$C,3,FALSE)) -> - | N5: =IF((ISBLANK($L5)=FALSE),VLOOKUP($L5,SEDI!$D:$K,7,FALSE)," - ") -> - | O5: =IF((ISBLANK($L5)=FALSE),VLOOKUP($L5,SEDI!$D:$K,2,FALSE)," - ") -> - | P5: =IF((ISBLANK($L5)=FALSE),VLOOKUP($L5,SEDI!$D:$K,3,FALSE)," - ") -> - | Q5: =IF((ISBLANK($L5)=FALSE),VLOOKUP($L5,SEDI!$D:$M,10,FALSE)," - ") -> - | AB5: =VLOOKUP(L5,SEDI!D:E,2,FALSE) -> #N/A | AC5: =IF(AB5=F5,0,1) -> #N/A
B6: =IF(ISBLANK(A6)=TRUE," - ",VLOOKUP(A6,'Scheda ADESIONE'!$C$26:$H$35,2,FALSE)) -> - | C6: =IF(ISBLANK(A6)=TRUE," - ",VLOOKUP(A6,'Scheda ADESIONE'!$C$26:$H$35,3,FALSE)) -> - | E6: =IF(ISBLANK(A6)=TRUE," - ",'Scheda ADESIONE'!$E$14) -> - | F6: =IF(ISBLANK($A6)=TRUE," - ",'Scheda ADESIONE'!$G$15) -> - | G6: =IF(ISBLANK($A6)=TRUE," - ",'Scheda ADESIONE'!$G$16) -> - | H6: =IF(ISBLANK($A6)=TRUE," - ",'Scheda ADESIONE'!$E$17) -> - | I6: =IF(ISBLANK($A6)=TRUE," - ",'Scheda ADESIONE'!$E$18) -> - | J6: =IF(ISBLANK($A6)=TRUE," - ",'Scheda ADESIONE'!$E$19) -> - | K6: =IF(ISBLANK($A6)=TRUE," - ",IF('Scheda ADESIONE'!$E$20="Non Disponibile",'Scheda ADESIONE'!$E$22,'Scheda ADESIONE'!$E$20)) -> - | M6: =IF((ISBLANK(A6)=TRUE)," - ",VLOOKUP(C6,progetti!$A:$C,3,FALSE)) -> - | N6: =IF((ISBLANK($L6)=FALSE),VLOOKUP($L6,SEDI!$D:$K,7,FALSE)," - ") -> - | O6: =IF((ISBLANK($L6)=FALSE),VLOOKUP($L6,SEDI!$D:$K,2,FALSE)," - ") -> - | P6: =IF((ISBLANK($L6)=FALSE),VLOOKUP($L6,SEDI!$D:$K,3,FALSE)," - ") -> - | Q6: =IF((ISBLANK($L6)=FALSE),VLOOKUP($L6,SEDI!$D:$M,10,FALSE)," - ") -> - | AB6: =VLOOKUP(L6,SEDI!D:E,2,FALSE) -> #N/A | AC6: =IF(AB6=F6,0,1) -> #N/A
B7: =IF(ISBLANK(A7)=TRUE," - ",VLOOKUP(A7,'Scheda ADESIONE'!$C$26:$H$35,2,FALSE)) -> - | C7: =IF(ISBLANK(A7)=TRUE," - ",VLOOKUP(A7,'Scheda ADESIONE'!$C$26:$H$35,3,FALSE)) -> - | E7: =IF(ISBLANK(A7)=TRUE," - ",'Scheda ADESIONE'!$E$14) -> - | F7: =IF(ISBLANK($A7)=TRUE," - ",'Scheda ADESIONE'!$G$15) -> - | G7: =IF(ISBLANK($A7)=TRUE," - ",'Scheda ADESIONE'!$G$16) -> - | H7: =IF(ISBLANK($A7)=TRUE," - ",'Scheda ADESIONE'!$E$17) -> - | I7: =IF(ISBLANK($A7)=TRUE," - ",'Scheda ADESIONE'!$E$18) -> - | J7: =IF(ISBLANK($A7)=TRUE," - ",'Scheda ADESIONE'!$E$19) -> - | K7: =IF(ISBLANK($A7)=TRUE," - ",IF('Scheda ADESIONE'!$E$20="Non Disponibile",'Scheda ADESIONE'!$E$22,'Scheda ADESIONE'!$E$20)) -> - | M7: =IF((ISBLANK(A7)=TRUE)," - ",VLOOKUP(C7,progetti!$A:$C,3,FALSE)) -> - | N7: =IF((ISBLANK($L7)=FALSE),VLOOKUP($L7,SEDI!$D:$K,7,FALSE)," - ") -> - | O7: =IF((ISBLANK($L7)=FALSE),VLOOKUP($L7,SEDI!$D:$K,2,FALSE)," - ") -> - | P7: =IF((ISBLANK($L7)=FALSE),VLOOKUP($L7,SEDI!$D:$K,3,FALSE)," - ") -> - | Q7: =IF((ISBLANK($L7)=FALSE),VLOOKUP($L7,SEDI!$D:$M,10,FALSE)," - ") -> - | AB7: =VLOOKUP(L7,SEDI!D:E,2,FALSE) -> #N/A | AC7: =IF(AB7=F7,0,1) -> #N/A
B8: =IF(ISBLANK(A8)=TRUE," - ",VLOOKUP(A8,'Scheda ADESIONE'!$C$26:$H$35,2,FALSE)) -> - | C8: =IF(ISBLANK(A8)=TRUE," - ",VLOOKUP(A8,'Scheda ADESIONE'!$C$26:$H$35,3,FALSE)) -> - | E8: =IF(ISBLANK(A8)=TRUE," - ",'Scheda ADESIONE'!$E$14) -> - | F8: =IF(ISBLANK($A8)=TRUE," - ",'Scheda ADESIONE'!$G$15) -> - | G8: =IF(ISBLANK($A8)=TRUE," - ",'Scheda ADESIONE'!$G$16) -> - | H8: =IF(ISBLANK($A8)=TRUE," - ",'Scheda ADESIONE'!$E$17) -> - | I8: =IF(ISBLANK($A8)=TRUE," - ",'Scheda ADESIONE'!$E$18) -> - | J8: =IF(ISBLANK($A8)=TRUE," - ",'Scheda ADESIONE'!$E$19) -> - | K8: =IF(ISBLANK($A8)=TRUE," - ",IF('Scheda ADESIONE'!$E$20="Non Disponibile",'Scheda ADESIONE'!$E$22,'Scheda ADESIONE'!$E$20)) -> - | M8: =IF((ISBLANK(A8)=TRUE)," - ",VLOOKUP(C8,progetti!$A:$C,3,FALSE)) -> - | N8: =IF((ISBLANK($L8)=FALSE),VLOOKUP($L8,SEDI!$D:$K,7,FALSE)," - ") -> - | O8: =IF((ISBLANK($L8)=FALSE),VLOOKUP($L8,SEDI!$D:$K,2,FALSE)," - ") -> - | P8: =IF((ISBLANK($L8)=FALSE),VLOOKUP($L8,SEDI!$D:$K,3,FALSE)," - ") -> - | Q8: =IF((ISBLANK($L8)=FALSE),VLOOKUP($L8,SEDI!$D:$M,10,FALSE)," - ") -> - | AB8: =VLOOKUP(L8,SEDI!D:E,2,FALSE) -> #N/A | AC8: =IF(AB8=F8,0,1) -> #N/A
B9: =IF(ISBLANK(A9)=TRUE," - ",VLOOKUP(A9,'Scheda ADESIONE'!$C$26:$H$35,2,FALSE)) -> - | C9: =IF(ISBLANK(A9)=TRUE," - ",VLOOKUP(A9,'Scheda ADESIONE'!$C$26:$H$35,3,FALSE)) -> - | E9: =IF(ISBLANK(A9)=TRUE," - ",'Scheda ADESIONE'!$E$14) -> - | F9: =IF(ISBLANK($A9)=TRUE," - ",'Scheda ADESIONE'!$G$15) -> - | G9: =IF(ISBLANK($A9)=TRUE," - ",'Scheda ADESIONE'!$G$16) -> - | H9: =IF(ISBLANK($A9)=TRUE," - ",'Scheda ADESIONE'!$E$17) -> - | I9: =IF(ISBLANK($A9)=TRUE," - ",'Scheda ADESIONE'!$E$18) -> - | J9: =IF(ISBLANK($A9)=TRUE," - ",'Scheda ADESIONE'!$E$19) -> - | K9: =IF(ISBLANK($A9)=TRUE," - ",IF('Scheda ADESIONE'!$E$20="Non Disponibile",'Scheda ADESIONE'!$E$22,'Scheda ADESIONE'!$E$20)) -> - | M9: =IF((ISBLANK(A9)=TRUE)," - ",VLOOKUP(C9,progetti!$A:$C,3,FALSE)) -> - | N9: =IF((ISBLANK($L9)=FALSE),VLOOKUP($L9,SEDI!$D:$K,7,FALSE)," - ") -> - | O9: =IF((ISBLANK($L9)=FALSE),VLOOKUP($L9,SEDI!$D:$K,2,FALSE)," - ") -> - | P9: =IF((ISBLANK($L9)=FALSE),VLOOKUP($L9,SEDI!$D:$K,3,FALSE)," - ") -> - | Q9: =IF((ISBLANK($L9)=FALSE),VLOOKUP($L9,SEDI!$D:$M,10,FALSE)," - ") -> - | AB9: =VLOOKUP(L9,SEDI!D:E,2,FALSE) -> #N/A | AC9: =IF(AB9=F9,0,1) -> #N/A
B10: =IF(ISBLANK(A10)=TRUE," - ",VLOOKUP(A10,'Scheda ADESIONE'!$C$26:$H$35,2,FALSE)) -> - | C10: =IF(ISBLANK(A10)=TRUE," - ",VLOOKUP(A10,'Scheda ADESIONE'!$C$26:$H$35,3,FALSE)) -> - | E10: =IF(ISBLANK(A10)=TRUE," - ",'Scheda ADESIONE'!$E$14) -> - | F10: =IF(ISBLANK($A10)=TRUE," - ",'Scheda ADESIONE'!$G$15) -> - | G10: =IF(ISBLANK($A10)=TRUE," - ",'Scheda ADESIONE'!$G$16) -> - | H10: =IF(ISBLANK($A10)=TRUE," - ",'Scheda ADESIONE'!$E$17) -> - | I10: =IF(ISBLANK($A10)=TRUE," - ",'Scheda ADESIONE'!$E$18) -> - | J10: =IF(ISBLANK($A10)=TRUE," - ",'Scheda ADESIONE'!$E$19) -> - | K10: =IF(ISBLANK($A10)=TRUE," - ",IF('Scheda ADESIONE'!$E$20="Non Disponibile",'Scheda ADESIONE'!$E$22,'Scheda ADESIONE'!$E$20)) -> - | M10: =IF((ISBLANK(A10)=TRUE)," - ",VLOOKUP(C10,progetti!$A:$C,3,FALSE)) -> - | N10: =IF((ISBLANK($L10)=FALSE),VLOOKUP($L10,SEDI!$D:$K,7,FALSE)," - ") -> - | O10: =IF((ISBLANK($L10)=FALSE),VLOOKUP($L10,SEDI!$D:$K,2,FALSE)," - ") -> - | P10: =IF((ISBLANK($L10)=FALSE),VLOOKUP($L10,SEDI!$D:$K,3,FALSE)," - ") -> - | Q10: =IF((ISBLANK($L10)=FALSE),VLOOKUP($L10,SEDI!$D:$M,10,FALSE)," - ") -> - | AB10: =VLOOKUP(L10,SEDI!D:E,2,FALSE) -> #N/A | AC10: =IF(AB10=F10,0,1) -> #N/A
B11: =IF(ISBLANK(A11)=TRUE," - ",VLOOKUP(A11,'Scheda ADESIONE'!$C$26:$H$35,2,FALSE)) -> - | C11: =IF(ISBLANK(A11)=TRUE," - ",VLOOKUP(A11,'Scheda ADESIONE'!$C$26:$H$35,3,FALSE)) -> - | E11: =IF(ISBLANK(A11)=TRUE," - ",'Scheda ADESIONE'!$E$14) -> - | F11: =IF(ISBLANK($A11)=TRUE," - ",'Scheda ADESIONE'!$G$15) -> - | G11: =IF(ISBLANK($A11)=TRUE," - ",'Scheda ADESIONE'!$G$16) -> - | H11: =IF(ISBLANK($A11)=TRUE," - ",'Scheda ADESIONE'!$E$17) -> - | I11: =IF(ISBLANK($A11)=TRUE," - ",'Scheda ADESIONE'!$E$18) -> - | J11: =IF(ISBLANK($A11)=TRUE," - ",'Scheda ADESIONE'!$E$19) -> - | K11: =IF(ISBLANK($A11)=TRUE," - ",IF('Scheda ADESIONE'!$E$20="Non Disponibile",'Scheda ADESIONE'!$E$22,'Scheda ADESIONE'!$E$20)) -> - | M11: =IF((ISBLANK(A11)=TRUE)," - ",VLOOKUP(C11,progetti!$A:$C,3,FALSE)) -> - | N11: =IF((ISBLANK($L11)=FALSE),VLOOKUP($L11,SEDI!$D:$K,7,FALSE)," - ") -> - | O11: =IF((ISBLANK($L11)=FALSE),VLOOKUP($L11,SEDI!$D:$K,2,FALSE)," - ") -> - | P11: =IF((ISBLANK($L11)=FALSE),VLOOKUP($L11,SEDI!$D:$K,3,FALSE)," - ") -> - | Q11: =IF((ISBLANK($L11)=FALSE),VLOOKUP($L11,SEDI!$D:$M,10,FALSE)," - ") -> - | AB11: =VLOOKUP(L11,SEDI!D:E,2,FALSE) -> #N/A | AC11: =IF(AB11=F11,0,1) -> #N/A
B12: =IF(ISBLANK(A12)=TRUE," - ",VLOOKUP(A12,'Scheda ADESIONE'!$C$26:$H$35,2,FALSE)) -> - | C12: =IF(ISBLANK(A12)=TRUE," - ",VLOOKUP(A12,'Scheda ADESIONE'!$C$26:$H$35,3,FALSE)) -> - | E12: =IF(ISBLANK(A12)=TRUE," - ",'Scheda ADESIONE'!$E$14) -> - | F12: =IF(ISBLANK($A12)=TRUE," - ",'Scheda ADESIONE'!$G$15) -> - | G12: =IF(ISBLANK($A12)=TRUE," - ",'Scheda ADESIONE'!$G$16) -> - | H12: =IF(ISBLANK($A12)=TRUE," - ",'Scheda ADESIONE'!$E$17) -> - | I12: =IF(ISBLANK($A12)=TRUE," - ",'Scheda ADESIONE'!$E$18) -> - | J12: =IF(ISBLANK($A12)=TRUE," - ",'Scheda ADESIONE'!$E$19) -> - | K12: =IF(ISBLANK($A12)=TRUE," - ",IF('Scheda ADESIONE'!$E$20="Non Disponibile",'Scheda ADESIONE'!$E$22,'Scheda ADESIONE'!$E$20)) -> - | M12: =IF((ISBLANK(A12)=TRUE)," - ",VLOOKUP(C12,progetti!$A:$C,3,FALSE)) -> - | N12: =IF((ISBLANK($L12)=FALSE),VLOOKUP($L12,SEDI!$D:$K,7,FALSE)," - ") -> - | O12: =IF((ISBLANK($L12)=FALSE),VLOOKUP($L12,SEDI!$D:$K,2,FALSE)," - ") -> - | P12: =IF((ISBLANK($L12)=FALSE),VLOOKUP($L12,SEDI!$D:$K,3,FALSE)," - ") -> - | Q12: =IF((ISBLANK($L12)=FALSE),VLOOKUP($L12,SEDI!$D:$M,10,FALSE)," - ") -> - | AB12: =VLOOKUP(L12,SEDI!D:E,2,FALSE) -> #N/A | AC12: =IF(AB12=F12,0,1) -> #N/A
B13: =IF(ISBLANK(A13)=TRUE," - ",VLOOKUP(A13,'Scheda ADESIONE'!$C$26:$H$35,2,FALSE)) -> - | C13: =IF(ISBLANK(A13)=TRUE," - ",VLOOKUP(A13,'Scheda ADESIONE'!$C$26:$H$35,3,FALSE)) -> - | E13: =IF(ISBLANK(A13)=TRUE," - ",'Scheda ADESIONE'!$E$14) -> - | F13: =IF(ISBLANK($A13)=TRUE," - ",'Scheda ADESIONE'!$G$15) -> - | G13: =IF(ISBLANK($A13)=TRUE," - ",'Scheda ADESIONE'!$G$16) -> - | H13: =IF(ISBLANK($A13)=TRUE," - ",'Scheda ADESIONE'!$E$17) -> - | I13: =IF(ISBLANK($A13)=TRUE," - ",'Scheda ADESIONE'!$E$18) -> - | J13: =IF(ISBLANK($A13)=TRUE," - ",'Scheda ADESIONE'!$E$19) -> - | K13: =IF(ISBLANK($A13)=TRUE," - ",IF('Scheda ADESIONE'!$E$20="Non Disponibile",'Scheda ADESIONE'!$E$22,'Scheda ADESIONE'!$E$20)) -> - | M13: =IF((ISBLANK(A13)=TRUE)," - ",VLOOKUP(C13,progetti!$A:$C,3,FALSE)) -> - | N13: =IF((ISBLANK($L13)=FALSE),VLOOKUP($L13,SEDI!$D:$K,7,FALSE)," - ") -> - | O13: =IF((ISBLANK($L13)=FALSE),VLOOKUP($L13,SEDI!$D:$K,2,FALSE)," - ") -> - | P13: =IF((ISBLANK($L13)=FALSE),VLOOKUP($L13,SEDI!$D:$K,3,FALSE)," - ") -> - | Q13: =IF((ISBLANK($L13)=FALSE),VLOOKUP($L13,SEDI!$D:$M,10,FALSE)," - ") -> - | AB13: =VLOOKUP(L13,SEDI!D:E,2,FALSE) -> #N/A | AC13: =IF(AB13=F13,0,1) -> #N/A
B14: =IF(ISBLANK(A14)=TRUE," - ",VLOOKUP(A14,'Scheda ADESIONE'!$C$26:$H$35,2,FALSE)) -> - | C14: =IF(ISBLANK(A14)=TRUE," - ",VLOOKUP(A14,'Scheda ADESIONE'!$C$26:$H$35,3,FALSE)) -> - | E14: =IF(ISBLANK(A14)=TRUE," - ",'Scheda ADESIONE'!$E$14) -> - | F14: =IF(ISBLANK($A14)=TRUE," - ",'Scheda ADESIONE'!$G$15) -> - | G14: =IF(ISBLANK($A14)=TRUE," - ",'Scheda ADESIONE'!$G$16) -> - | H14: =IF(ISBLANK($A14)=TRUE," - ",'Scheda ADESIONE'!$E$17) -> - | I14: =IF(ISBLANK($A14)=TRUE," - ",'Scheda ADESIONE'!$E$18) -> - | J14: =IF(ISBLANK($A14)=TRUE," - ",'Scheda ADESIONE'!$E$19) -> - | K14: =IF(ISBLANK($A14)=TRUE," - ",IF('Scheda ADESIONE'!$E$20="Non Disponibile",'Scheda ADESIONE'!$E$22,'Scheda ADESIONE'!$E$20)) -> - | M14: =IF((ISBLANK(A14)=TRUE)," - ",VLOOKUP(C14,progetti!$A:$C,3,FALSE)) -> - | N14: =IF((ISBLANK($L14)=FALSE),VLOOKUP($L14,SEDI!$D:$K,7,FALSE)," - ") -> - | O14: =IF((ISBLANK($L14)=FALSE),VLOOKUP($L14,SEDI!$D:$K,2,FALSE)," - ") -> - | P14: =IF((ISBLANK($L14)=FALSE),VLOOKUP($L14,SEDI!$D:$K,3,FALSE)," - ") -> - | Q14: =IF((ISBLANK($L14)=FALSE),VLOOKUP($L14,SEDI!$D:$M,10,FALSE)," - ") -> - | AB14: =VLOOKUP(L14,SEDI!D:E,2,FALSE) -> #N/A | AC14: =IF(AB14=F14,0,1) -> #N/A
... B31: =IF(ISBLANK(A31)=TRUE," - ",VLOOKUP(A31,'Scheda ADESIONE'!$C$26:$H$35,2,FALSE)) -> - | C31: =IF(ISBLANK(A31)=TRUE," - ",VLOOKUP(A31,'Scheda ADESIONE'!$C$26:$H$35,3,FALSE)) -> - | E31: =IF(ISBLANK(A31)=TRUE," - ",'Scheda ADESIONE'!$E$14) -> - | F31: =IF(ISBLANK($A31)=TRUE," - ",'Scheda ADESIONE'!$G$15) -> - | G31: =IF(ISBLANK($A31)=TRUE," - ",'Scheda ADESIONE'!$G$16) -> - | H31: =IF(ISBLANK($A31)=TRUE," - ",'Scheda ADESIONE'!$E$17) -> - | I31: =IF(ISBLANK($A31)=TRUE," - ",'Scheda ADESIONE'!$E$18) -> - | J31: =IF(ISBLANK($A31)=TRUE," - ",'Scheda ADESIONE'!$E$19) -> - | K31: =IF(ISBLANK($A31)=TRUE," - ",IF('Scheda ADESIONE'!$E$20="Non Disponibile",'Scheda ADESIONE'!$E$22,'Scheda ADESIONE'!$E$20)) -> - | M31: =IF((ISBLANK(A31)=TRUE)," - ",VLOOKUP(C31,progetti!$A:$C,3,FALSE)) -> - | N31: =IF((ISBLANK($L31)=FALSE),VLOOKUP($L31,SEDI!$D:$K,7,FALSE)," - ") -> - | O31: =IF((ISBLANK($L31)=FALSE),VLOOKUP($L31,SEDI!$D:$K,2,FALSE)," - ") -> - | P31: =IF((ISBLANK($L31)=FALSE),VLOOKUP($L31,SEDI!$D:$K,3,FALSE)," - ") -> - | Q31: =IF((ISBLANK($L31)=FALSE),VLOOKUP($L31,SEDI!$D:$M,10,FALSE)," - ") -> - | AB31: =VLOOKUP(L31,SEDI!D:E,2,FALSE) -> #N/A | AC31: =IF(AB31=F31,0,1) -> #N/A

Sheet progetti
A1: PROGETTO | B1: area | C1: AVVISO | G1: Area | I1: AS | J1: AC | K1: D | L1: IP | M1: SV | N1: SM
A2: A Roma sulle tracce della Riforma Protestante | B2: Intercultura e Pace | C2: - | G2: Ambiente e Scienza | H2: AS | I2: Acea Scuola. DifendiAMO l’acqua! | J2: Adotta un Treno storico | K2: La cultura della Legalità – dall’indifferenza alla consapevolezza delle scelte possibili | L2: Link to school: un progetto di gemellaggio tra le scuole italiane e del Kenya | M2: La Polizia Locale incontra la scuola | N2: Giardino dei Giusti a Roma
A3: A scuola di BIO | B3: Ambiente e Scienza | C3: Scuole Primarie e Secondarie di I | G3: Arte e Cultura | H3: AC | I3: Le Quattro Erre dell’Ambiente | J3: Un Colore Mille Colori | K3: La Costituzione aperta a tutti | L3: Il viaggio di Sama e Timo | M3: Scuole sicure – educazione alla legalità | N3: Storie di luoghi della Memoria: Fossoli e il Parco Nazionale della Pace
A4: Acea Scuola. DifendiAMO l’acqua! | B4: Ambiente e Scienza | C4: Scuole Primarie (classi 4 e 5) e Secondarie di I grado | G4: Diritti | H4: D | I4: Cultura del Mare | J4: La Scuola Adotta un Monumento | K4: Passaparola: raccontiamo la mobilità | L4: Migration – Le migrazioni | M4: Nelson | N4: Roma Città della Memoria: leggi razziali, deportazione, Shoah, Resistenza, Liberazione
A5: Adolescenza: stili di vita e patologia. Due realtà a confronto | B5: Stili di Vita | C5: Scuole secondarie di II grado e docenti delle scuole di ogni ordine e grado, genitori | G5: Intercultura e Pace | H5: IP | I5: Isola della Sostenibilità | J5: Lo Zoo di Pietra : vivere la città attraverso il suo bestiario | K5: Diverso? Si, ma diverso da chi? La scuola inclusiva | L5: Il mio vicino viene da lontano | M5: Adolescenza: stili di vita e patologia. Due realtà a confronto | N5: Il confine orientale italiano tra Foibe ed Esodo: una drammatica storia europea
A6: Adotta un Treno storico | B6: Arte e Cultura | C6: - | G6: Stili di Vita | H6: SV | I6: GSE incontra le scuole | J6: Palazzo Altemps: la dimora di un cardinale | K6: Minori e diritti universali: la rete, i fili, i nodi | L6: MUS-E | M6: Educazione sessuale 2.0 | N6: Stefano Gaj Tachè – l’amico dei bambini
A7: Approfondire il proprio passato per avere un futuro migliore: la storia di Roma nelle carte dell’Archivio della Comunità Ebraica “Giancarlo Spizzichino” | B7: Storia e Memoria | C7: Scuole di ogni ordine e grado | G7: Storia e Memoria | H7: SM | I7: Dolce Ape | J7: Spieghiamo le Ali | K7: Missione inclusione: giovani e cittadini si attivano come Agenti0011 per costruire città inclusive e sostenibili, aperte al dialogo con la comunità globale | L7: A Roma sulle tracce della Riforma Protestante | M7: Giovani Sicurezza e Futuro | N7: Il muro del deportato del Verano – Storia e memoria della deportazione romana
A8: Confini | B8: Intercultura e Pace | C8: - | I8: A scuola di BIO | J8: The Square | K8: People have the power | L8: Confini | M8: Food and Love | N8: Eravamo ragazzi – le storie personali insegnano
A9: Contest nazionale change yourself and ciak! | B9: Ambiente e Scienza | C9: - | I9: Riduzione dei rischi da disastro & adattamento ai cambiamenti climatici | J9: Giovani come agenti di cambiamento e cittadini attivi | K9: Raid Cross: Gioco di Ruolo | L9: Human values based training program | M9: Guardiamoci in Face | N9: Le rose di Ravensbruck
A10: Coro Jazz | B10: Arte e Cultura | C10: - | I10: Laboratori di protezione civile e di preparazione alla gestione delle emergenze e dei disastri | J10: Una poesia fa primavera – VI edizione | K10: Senza Diritti non vedi Futuro | L10: Siamo favolosi | M10: Poco Social molto Gaming | N10: Italia e Jugoslavia nella Seconda Guerra Mondiale
A11: Cultura del Mare | B11: Ambiente e Scienza | C11: - | I11: Contest nazionale change yourself and ciak! | J11: Progetto di Burattini | K11: Diffusione del Diritto Internazionale Umanitario | L11: Sipario aperto sulla discriminazione | M11: That’s Amore | N11: La Resistenza a Roma durante l’occupazione nazifascista della Capitale
A12: Cuore Digitale | B12: Ambiente e Scienza | C12: - | I12: Mangiare e’ un atto agricolo Wendel Berry | J12: Coro Jazz | K12: Sportello di Orientamento allo studio e al lavoro | L12: Eccomi! Risali con me | M12: Emozioniamoci | N12: La psichiatria nella Germania Nazionalsocialista e nel ventennio fascista. Lo stigma della malattia mentale allora e oggi.
A13: Diffusione del Diritto Internazionale Umanitario | B13: Diritti | C13: - | I13: Cuore Digitale | K13: Scuola e volontariato | L13: I Tamburi per la Pace | M13: Il futuro del passato | N13: Progetto Anne Frank
A14: Diverso? Si, ma diverso da chi? La scuola inclusiva | B14: Diritti | C14: Scuole primarie classi 3, 4 e 5 | K14: Sostegno scolastico spazio compiti | M14: Emozioni in gioco | N14: Approfondire il proprio passato per avere un futuro migliore: la storia di Roma nelle carte dell’Archivio della Comunità Ebraica “Giancarlo Spizzichino”
A15: Dolce Ape | B15: Ambiente e Scienza | C15: Scuole Primarie e Secondarie di I grado | M15: Tutela della Salute & Stili di Vita Sani | N15: La Costituzione e le Madri Costituenti
A16: Eccomi! Risali con me | B16: Intercultura e Pace | C16: - | M16: Primo Soccorso | N16: Il Gianicolo e la Repubblica Romana
A17: Educazione sessuale 2.0 | B17: Stili di Vita | C17: Scuole secondarie di II grado (1 anno) | M17: Informazione e Prevenzione sulle Dipendenze
A18: Emozioni in gioco | B18: Stili di Vita | C18: Scuole Secondarie di I e II grado (1 anno)
A19: Emozioniamoci | B19: Stili di Vita | C19: Scuola dell’infanzia – docenti e alunni
A20: Eravamo ragazzi – le storie personali insegnano | B20: Storia e Memoria | C20: Scuole Secondarie di I grado (3 anno)
A21: Food and Love | B21: Stili di Vita | C21: Scuole Secondarie di I e II grado
A22: Giardino dei Giusti a Roma | B22: Storia e Memoria | C22: Scuole Secondarie di I e II grado
A23: Giovani come agenti di cambiamento e cittadini attivi | B23: Arte e Cultura | C23: -
A24: Giovani Sicurezza e Futuro | B24: Stili di Vita | C24: Scuole Primarie e Secondarie di I e II grado
A25: GSE incontra le scuole | B25: Ambiente e Scienza | C25: Scuole dell’Infanzia (5 anni), Primarie (classi 4 e 5) e Scuole Secondarie di I grado
A26: Guardiamoci in Face | B26: Stili di Vita | C26: Scuole Secondarie di I grado
A27: Human values based training program | B27: Intercultura e Pace | C27: -
A28: Il confine orientale italiano tra Foibe ed Esodo: una drammatica storia europea | B28: Storia e Memoria | C28: Scuole Secondarie di II grado
A29: Il futuro del passato | B29: Stili di Vita | C29: Scuole di ogni ordine e grado
... A76: Una poesia fa primavera – VI edizione | B76: Arte e Cultura | C76: -
A77: Tutela della Salute & Stili di Vita Sani | B77: Stili di Vita
A78: Primo Soccorso | B78: Stili di Vita
A79: Informazione e Prevenzione sulle Dipendenze | B79: Stili di Vita | C79: Scuole primarie e secondarie di I e II grado
A80: I Tamburi per la Pace | B80: Intercultura e Pace | C80: Scuole primarie e secondarie di I e II grado

Sheet ELENCO
A1: TIPOLOGIA | C1: IC | D1: INF_NS | E1: PRIM_NS | F1: PRIM | G1: MED_NS | H1: MED | I1: SEC_NS | J1: SEC | K1: IS | L1: lista1 | M1: municipio | N1: progetto
A2: ISTITUTO COMPRENSIVO STATALE | B2: IC | C2: RMIC80200G | D2: RM1A39900V | E2: RM1E16000R | F2: RMEE00700R | G2: RM1M036008 | H2: RMIS00800P | I2: RMPM00500N | J2: RMPC030006 | K2: RMIS00800P | L2: Sì | M2: I | N2: Progetto 1
A3: SCUOLA INFANZIA NON STATALE | B3: INF_NS | C3: RMIC80300B | D3: RM1A32400D | E3: RM1E122002 | F3: RMEE17200R | G3: RM1M030009 | H3: RMIS00900E | I3: RMPS49500G | J3: RMPC04000R | K3: RMIS00900E | L3: No | M3: II | N3: Progetto 2
A4: SCUOLA PRIMARIA NON STATALE | B4: PRIM_NS | C4: RMIC804007 | D4: RM1A234007 | E4: RM1EM25008 | F4: RMEE17200R | G4: RM1M09800G | H4: RMIS013006 | I4: RMPSDR500A | J4: RMPC05000B | K4: RMIS013006 | M4: III | N4: Progetto 3
A5: SCUOLA PRIMARIA STATALE | B5: PRIM | C5: RMIC805003 | D5: RM1A278001 | E5: RM1E015002 | G5: RM1M15000B | H5: RMIS01600N | I5: RMTD475006 | J5: RMPC07000L | K5: RMIS01600N | M5: IV | N5: Progetto 4
A6: SCUOLA SEC. PRIMO GRADO NON STATALE | B6: MED_NS | C6: RMIC80600V | D6: RM1A675001 | E6: RM1E204009 | G6: RM1M14800B | H6: RMIS022001 | I6: RMTD46500G | J6: RMPC080007 | K6: RMIS022001 | M6: V | N6: Progetto 5
A7: SCUOLA SEC. PRIMO GRADO STATALE | B7: MED | C7: RMIC80700P | D7: RM1A68600B | E7: RM1E081001 | G7: RM1M106009 | H7: RMIS02300R | I7: RMPSBI5001 | J7: RMPC09000T | K7: RMIS02300R | M7: VI
A8: SCUOLA SEC. SECONDO GRADO NON STATALE | B8: SEC_NS | C8: RMIC80800E | D8: RM1A23800E | E8: RM1E121006 | G8: RM1M03400L | H8: RMIS026008 | I8: RMPSP4500S | J8: RMPC12000C | K8: RMIS026008 | M8: VII
A9: SCUOLA SEC. SECONDO GRADO STATALE | B9: SEC | C9: RMIC81000E | D9: RM1A438008 | E9: RM1E11000Q | G9: RM1M110001 | H9: RMIS027004 | I9: RMPLAM500Z | J9: RMPC14000N | K9: RMIS027004 | M9: VIII
A10: ISTITUTO DI ISTRUZIONE SUPERIORE | B10: IS | C10: RMIC81100A | D10: RM1A22400L | E10: RM1E04500T | G10: RM1M10000A | H10: RMIS03200G | I10: RMTD77500R | J10: RMPC150008 | K10: RMIS03200G | M10: IX
C11: RMIC812006 | D11: RM1A27300T | E11: RM1E079001 | G11: RM1M028009 | H11: RMIS03300B | I11: RMPS46500Q | J11: RMPC17000D | K11: RMIS03300B | M11: X
C12: RMIC813002 | D12: RM1A484002 | E12: RM1E01000V | G12: RM1M14200C | H12: RMIS034007 | I12: RMRHRE5002 | J12: RMPC180004 | K12: RMIS034007 | M12: XI
C13: RMIC81400T | D13: RM1A696002 | E13: RM1E19600G | G13: RM1M04300B | H13: RMIS03600V | I13: RMPSQP500D | J13: RMPC200004 | K13: RMIS03600V | M13: XII
C14: RMIC81500N | D14: RM1A72100D | E14: RM1E128001 | G14: RM1M12100B | H14: RMIS03900A | I14: RMTB035009 | J14: RMPC21000P | K14: RMIS03900A | M14: XIII
C15: RMIC81600D | D15: RM1A028006 | E15: RM1E09800A | G15: RM1M13400D | H15: RMIS06100G | I15: RMPS695009 | J15: RMPC220009 | K15: RMIS06100G | M15: XIV
C16: RMIC817009 | D16: RM1A293003 | E16: RM1E16700G | G16: RM1M07100G | H16: RMIS06200B | I16: RMPS455005 | J16: RMPC23000X | K16: RMIS06200B | M16: XV
C17: RMIC818005 | D17: RM1A22500C | E17: RM1E10800Q | G17: RM1M11900B | H17: RMIS063007 | I17: RMPM08500E | J17: RMPC250005 | K17: RMIS063007
C18: RMIC819001 | D18: RM1A023003 | E18: RM1E051005 | G18: RM1M130006 | H18: RMIS069006 | I18: RMPC185007 | J18: RMPC27000A | K18: RMIS069006
C19: RMIC820005 | D19: RM1A035009 | E19: RM1E13100R | G19: RM1M04100Q | H19: RMIS07300T | I19: RMPM065009 | J19: RMPC280001 | K19: RMIS07300T
C20: RMIC821001 | D20: RM1A38100N | E20: RM1E02900X | G20: RM1M086009 | H20: RMIS07900R | I20: RMTD34500D | J20: RMPC31000G | K20: RMIS07900R
C21: RMIC82200R | D21: RM1A74300A | E21: RM1E03300G | G21: RM1M057009 | H21: RMIS08100R | I21: RMTD09500X | J21: RMPC320006 | K21: RMIS08100R
C22: RMIC82300L | D22: RM1APA500T | E22: RM1E15900L | G22: RM1M11700Q | H22: RMIS08200L | I22: RMPS44500E | J22: RMPC420003 | K22: RMIS08200L
C23: RMIC82400C | D23: RM1A397007 | E23: RM1E12300T | G23: RM1M11600X | H23: RMIS084008 | I23: RMPME45007 | J23: RMPC48000P | K23: RMIS084008
C24: RMIC825008 | D24: RM1A369003 | E24: RM1E213004 | G24: RM1M149007 | H24: RMIS08900B | I24: RMPMQB5004 | J24: RMPM040001 | K24: RMIS08900B
C25: RMIC826004 | D25: RM1A02500P | E25: RM1E19400X | G25: RM1M114008 | H25: RMIS09100B | I25: RMPS51500G | J25: RMPM08000B | K25: RMIS09100B
C26: RMIC82700X | D26: RM1A731004 | E26: RM1E08200R | G26: RM1M02600N | H26: RMIS092007 | I26: RMPC14500R | J26: RMPM12000L | K26: RMIS092007
C27: RMIC82800Q | D27: RM1A13100V | E27: RM1E048009 | G27: RM1M08500D | H27: RMIS09400V | I27: RMPS095004 | J27: RMPM160003 | K27: RMIS09400V
C28: RMIC82900G | D28: RM1A305004 | E28: RM1E023001 | G28: RM1M04900A | H28: RMIS09700A | I28: RMPL305002 | J28: RMPM180008 | K28: RMIS09700A
... C39: RMIC841006 | D39: RM1A255008 | E39: RM1E09100G | G39: RM1M079006 | H39: RMMM05300D | I39: RMPL285002 | J39: RMPS19000T | K39: RMIS121002
C40: RMIC842002 | D40: RM1A326005 | E40: RM1E178002 | G40: RM1M03300R | H40: RMMM67000C | I40: RMPS07500V | J40: RMPS24000N
C41: RMIC84300T | D41: RM1A67200D | E41: RM1E13300C | G41: RM1M031005 | H41: RMMM671008 | I41: RMPC10500A | J41: RMPS26000V
C42: RMIC84400N | D42: RM1A35200N | E42: RM1E09500V | G42: RM1M073007 | H42: RMMM672004 | I42: RMPS59500C | J42: RMPS27000D
C43: RMIC84500D | D43: RM1A68400Q | E43: RM1E199003 | G43: RM1M05500N | H43: RMMM67300X | I43: RMPSPG500N | J43: RMPS280004
C44: RMIC846009 | D44: RM1A299002 | E44: RM1E16600Q | G44: RM1M08900R | H44: VTMM047008 | I44: RMPM045004 | J44: RMPS37000A
C45: RMIC847005 | D45: RM1A7O5003 | E45: RM1E00900P | G45: RM1MZQ500O | I45: RMPM55500G | J45: RMPS420006
C46: RMIC848001 | D46: RM1A05000B | E46: RM1E00300Q | G46: RM1M029005 | I46: RMTD78500B | J46: RMPS44000B
C47: RMIC85100R | D47: RM1A69400A | E47: RM1E20700R | G47: RM1M05100A | I47: RMSL5N500U | J47: RMPS450002
C48: RMIC85200L | D48: RM1A48200A | E48: RM1E00800V | G48: RM1M12400V | I48: RMPS03500C | J48: RMPS46000L
C49: RMIC85300C | D49: RM1A39500G | E49: RM1E186001 | G49: RM1M058005 | I49: RMPS165005 | J49: RMPS48000T
C50: RMIC854008 | D50: RM1A235003 | E50: RM1E08400C | G50: RM1M02700D | I50: RMPSE55000 | J50: RMPS49000C
...

Sheet IP
A1: CODICEISTITUTORIFERIMENTO | B1: tipo | C1: DENOMINAZIONEISTITUTORIFERIMENTO | D1: INDIRIZZO | E1: DESCRIZIONECARATTERISTICASCUOLA | F1: DESCRIZIONETIPOLOGIAGRADOISTRUZIONESCUOLA | G1: TIPOLOGIA | H1: INDIRIZZOEMAILSCUOLA | I1: INDIRIZZOPECSCUOLA | J1: NOTE
A2: RMEE00700R | B2: EE | C2: MONTESSORI | D2: VIA S.M. GORETTI 41 - 00199 - ROMA | E2: NORMALE | F2: SCUOLA PRIMARIA | G2: SCUOLA PRIMARIA STATALE | H2: RMEE00700R@istruzione.it | I2: rmee00700r@pec.istruzione.it
A3: RMEE17200R | B3: EE | C3: SC.EL.ANNESSA C.N."V.EM.LE II" | D3: PIAZZA MONTE GRAPPA 5 - 00195 - ROMA | E3: CONVITTO NAZIONALE | F3: SCUOLA PRIMARIA | G3: SCUOLA PRIMARIA STATALE | H3: RMEE17200R@istruzione.it | I3: Non Disponibile
A4: RMIC80200G | B4: IC | C4: AMENDOLA - GUTTUSO | D4: VIA DELL'IDROSCALO 82 - 00121 - ROMA | E4: NORMALE | F4: ISTITUTO COMPRENSIVO | G4: ISTITUTO COMPRENSIVO STATALE | H4: RMIC80200G@istruzione.it | I4: rmic80200g@pec.istruzione.it
A5: RMIC80300B | B5: IC | C5: PADRE ROMUALDO FORMATO | D5: VIA ARDEATINA 1274 - 00134 - ROMA | E5: NORMALE | F5: ISTITUTO COMPRENSIVO | G5: ISTITUTO COMPRENSIVO STATALE | H5: RMIC80300B@istruzione.it | I5: rmic80300b@pec.istruzione.it
A6: RMIC804007 | B6: IC | C6: I.C. FALCONE E BORSELLINO | D6: VIA GIOVANNI DA PROCIDA 16 - 00162 - ROMA | E6: NORMALE | F6: ISTITUTO COMPRENSIVO | G6: ISTITUTO COMPRENSIVO STATALE | H6: RMIC804007@istruzione.it | I6: rmic804007@pec.istruzione.it
A7: RMIC805003 | B7: IC | C7: "ELSA MORANTE" | D7: VIA A. VOLTA 41 - 00153 - ROMA | E7: NORMALE | F7: ISTITUTO COMPRENSIVO | G7: ISTITUTO COMPRENSIVO STATALE | H7: RMIC805003@istruzione.it | I7: rmic805003@pec.istruzione.it
A8: RMIC80600V | B8: IC | C8: ISTITUTO COMPRENSIVO VIRGILIO | D8: VIA GIULIA 25 - 00186 - ROMA | E8: NORMALE | F8: ISTITUTO COMPRENSIVO | G8: ISTITUTO COMPRENSIVO STATALE | H8: RMIC80600V@istruzione.it | I8: rmic80600v@pec.istruzione.it
A9: RMIC80700P | B9: IC | C9: URUGUAY | D9: VIA GIUSEPPE DE SANTIS 33 - 00139 - ROMA | E9: NORMALE | F9: ISTITUTO COMPRENSIVO | G9: ISTITUTO COMPRENSIVO STATALE | H9: RMIC80700P@istruzione.it | I9: rmic80700p@pec.istruzione.it
A10: RMIC80800E | B10: IC | C10: I.C. REGINA MARGHERITA | D10: VIA MADONNA DELL'ORTO 2 - 00100 - ROMA | E10: NORMALE | F10: ISTITUTO COMPRENSIVO | G10: ISTITUTO COMPRENSIVO STATALE | H10: RMIC80800E@istruzione.it | I10: rmic80800e@pec.istruzione.it
A11: RMIC81000E | B11: IC | C11: GIORGIO PERLASCA | D11: VIA RAMIRO FABIANI 45 - 00158 - ROMA | E11: NORMALE | F11: ISTITUTO COMPRENSIVO | G11: ISTITUTO COMPRENSIVO STATALE | H11: RMIC81000E@istruzione.it | I11: rmic81000e@pec.istruzione.it
A12: RMIC81100A | B12: IC | C12: CARLO LEVI | D12: VIA SERRAPETRONA 121 ROMA - 00138 - ROMA | E12: NORMALE | F12: ISTITUTO COMPRENSIVO | G12: ISTITUTO COMPRENSIVO STATALE | H12: RMIC81100A@istruzione.it | I12: rmic81100a@pec.istruzione.it
A13: RMIC812006 | B13: IC | C13: IC FIDENAE | D13: VIA RUSSOLILLO 64 - 00138 - ROMA | E13: NORMALE | F13: ISTITUTO COMPRENSIVO | G13: ISTITUTO COMPRENSIVO STATALE | H13: RMIC812006@istruzione.it | I13: rmic812006@pec.istruzione.it
... A210: RMIS07300T | B210: IS | C210: " CHARLES DARWIN " | D210: VIA TUSCOLANA 388 - 00181 - ROMA | E210: NORMALE | F210: ISTITUTO SUPERIORE | G210: ISTITUTO DI ISTRUZIONE SUPERIORE | H210: RMIS07300T@istruzione.it | I210: rmis07300t@pec.istruzione.it
B211: IS | C211: EUROPA - VIRGINIA WOOLF | D211: ROMOLO TRINCHIERI 49 - 00172 - ROMA | E211: NORMALE | F211: ISTITUTO SUPERIORE | G211: ISTITUTO DI ISTRUZIONE SUPERIORE | H211: RMIS07900R@istruzione.it | I211: rmis07900r@pec.istruzione.it | J211: EX RMIS07900R
A212: RMIS08100R | B212: IS | C212: ENZO FERRARI | D212: VIA GROTTAFERRATA 76 - TEL. 06/121122325 - 00178 - ROMA | E212: NORMALE | F212: ISTITUTO SUPERIORE | G212: ISTITUTO DI ISTRUZIONE SUPERIORE | H212: RMIS08100R@istruzione.it | I212: rmis08100r@pec.istruzione.it
A213: RMIS08200L | B213: IS | C213: I.I.S.S. "CARAVAGGIO" | D213: VIALE CARLO TOMMASO ODESCALCHI 73 - 00147 - ROMA | E213: NORMALE | F213: ISTITUTO SUPERIORE | G213: ISTITUTO DI ISTRUZIONE SUPERIORE | H213: RMIS08200L@istruzione.it | I213: rmis08200l@pec.istruzione.it
A214: RMIS084008 | B214: IS | C214: FEDERICO CAFFE' | D214: VIALE DI VILLA PAMPHILI N.86 - 00152 - ROMA | E214: NORMALE | F214: ISTITUTO SUPERIORE | G214: ISTITUTO DI ISTRUZIONE SUPERIORE | H214: RMIS084008@istruzione.it | I214: rmis084008@pec.istruzione.it
A215: RMIS08900B | B215: IS | C215: CINE TV "ROBERTO ROSSELLINI" | D215: VIA DELLA VASCA NAVALE58 - 00146 - ROMA | E215: NORMALE | F215: ISTITUTO SUPERIORE | G215: ISTITUTO DI ISTRUZIONE SUPERIORE | H215: RMIS08900B@istruzione.it | I215: rmis08900b@pec.istruzione.it
A216: RMIS09100B | B216: IS | C216: I.I.S. "VIA DEI PAPARESCHI" | D216: VIA DEI PAPARESCHI 30/A - 00146 - ROMA | E216: NORMALE | F216: ISTITUTO SUPERIORE | G216: ISTITUTO DI ISTRUZIONE SUPERIORE | H216: RMIS09100B@istruzione.it | I216: rmis09100b@pec.istruzione.it
A217: RMIS092007 | B217: IS | C217: VICOLO DEL CASAL LUMBROSO | D217: VICOLO DEL CASAL LUMBROSO 129 - 00166 - ROMA | E217: NORMALE | F217: ISTITUTO SUPERIORE | G217: ISTITUTO DI ISTRUZIONE SUPERIORE | H217: RMIS092007@istruzione.it | I217: rmis092007@pec.istruzione.it
A218: RMIS09400V | B218: IS | C218: PACINOTTI - ARCHIMEDE | D218: VIA MONTAIONE 15 - 00139 - ROMA | E218: NORMALE | F218: ISTITUTO SUPERIORE | G218: ISTITUTO DI ISTRUZIONE SUPERIORE | H218: RMIS09400V@istruzione.it | I218: rmis09400v@pec.istruzione.it
A219: RMIS09700A | B219: IS | C219: CONFALONIERI-DE CHIRICO | D219: VIA B.M. DE MATTIAS 5 - 00183 - ROMA | E219: NORMALE | F219: ISTITUTO SUPERIORE | G219: ISTITUTO DI ISTRUZIONE SUPERIORE | H219: RMIS09700A@istruzione.it | I219: rmis09700a@pec.istruzione.it
A220: RMIS10200L | B220: IS | C220: VIA LENTINI 78 | D220: VIA LENTINI 78 - 00133 - ROMA | E220: NORMALE | F220: ISTITUTO SUPERIORE | G220: ISTITUTO DI ISTRUZIONE SUPERIORE | H220: RMIS10200L@istruzione.it | I220: rmis10200l@pec.istruzione.it
A221: RMIS10300C | B221: IS | C221: GIULIO VERNE - I.I.S.VIA DI SAPONARA 150 | D221: VIA DI SAPONARA 150 - 00125 - ROMA | E221: NORMALE | F221: ISTITUTO SUPERIORE | G221: ISTITUTO DI ISTRUZIONE SUPERIORE | H221: RMIS10300C@istruzione.it | I221: rmis10300c@pec.istruzione.it
A222: RMIS10700Q | B222: IS | C222: DE PINEDO - COLONNA | D222: VIA FRANCESCO MORANDINI 30 - 00142 - ROMA | E222: NORMALE | F222: ISTITUTO SUPERIORE | G222: ISTITUTO DI ISTRUZIONE SUPERIORE | H222: RMIS10700Q@istruzione.it | I222: RMIS10700Q@pec.istruzione.it
A223: RMIS10800G | B223: IS | C223: VIA SILVESTRI 301 | D223: VIA SILVESTRI 301 - 00164 - ROMA | E223: NORMALE | F223: ISTITUTO SUPERIORE | G223: ISTITUTO DI ISTRUZIONE SUPERIORE | H223: RMIS10800G@istruzione.it | I223: RMIS10800G@pec.istruzione.it
... A316: RMPM00500N | B316: PM | C316: COMUNITA' EBRAICA ROMA RENZO LEVI- LICEO SCIENZE SOCIALI | D316: DA INSERIRE - 00186 - ROMA | E316: SCUOLA SEC. SECONDO GRADO NON STATALE | F316: SCUOLA SEC. SECONDO GRADO NON STATALE | G316: SCUOLA SEC. SECONDO GRADO NON STATALE | H316: liceo.levi@romaebraica.it | I316: Non Disponibile
A317: RM1A39900V | B317: 1A | C317: FAZIO | D317: VIA TUSCOLANA 1111 - 00173 - ROMA | E317: SCUOLA INFANZIA NON STATALE | F317: SCUOLA INFANZIA NON STATALE | G317: SCUOLA INFANZIA NON STATALE | H317: Non Disponibile | I317: Non Disponibile | J317: Non Disponibile
A318: RM1A32400D | B318: 1A | C318: SCUOLA MATERNA S. GIUSEPPE ALL'AURELIO | D318: VIA ADRIANO I 189 - 00166 - ROMA | E318: SCUOLA INFANZIA NON STATALE | F318: SCUOLA INFANZIA NON STATALE | G318: SCUOLA INFANZIA NON STATALE | H318: Non Disponibile | I318: Non Disponibile
A319: RM1M036008 | B319: 1M | C319: SCUOLA MEDIA PADRE ANGELICO LIPANI | D319: V.NOMENTANA 954 - 00141 - ROMA | E319: SCUOLA SEC. PRIMO GRADO NON STATALE | F319: SCUOLA SEC. PRIMO GRADO NON STATALE | G319: SCUOLA SEC. PRIMO GRADO NON STATALE | H319: P.A.LIPANI@LIBERO.IT | I319: Non Disponibile
A320: RM1A234007 | B320: 1A | C320: LA MONGOLFIERA | D320: VIA DEGLI ORAFI 30 - 00133 - ROMA | E320: SCUOLA INFANZIA NON STATALE | F320: SCUOLA INFANZIA NON STATALE | G320: SCUOLA INFANZIA NON STATALE | H320: Non Disponibile | I320: Non Disponibile
A321: RM1M030009 | B321: 1M | C321: SCUOLA MEDIA IST. S. MARIA DEGLI ANGELI | D321: V.LATTANZIO 27 - 00136 - ROMA | E321: SCUOLA SEC. PRIMO GRADO NON STATALE | F321: SCUOLA SEC. PRIMO GRADO NON STATALE | G321: SCUOLA SEC. PRIMO GRADO NON STATALE | H321: SMARIANGELI@TISCALI.IT | I321: Non Disponibile
A322: RM1E16000R | B322: 1E | C322: SCUOLA ELEM.PARIF. MARIA MONTESSORI | D322: VIA TITO LIVIO 23/A - 00136 - ROMA | E322: SCUOLA PRIMARIA NON STATALE | F322: SCUOLA PRIMARIA NON STATALE | G322: SCUOLA PRIMARIA NON STATALE | H322: SEP.M.MONTESSORI@TISCALI.IT | I322: Non Disponibile
A323: RM1A278001 | B323: 1A | C323: SCUOLA MATERNA CUORE IMMACOLATO DI MARIA | D323: VIA COSTANTINIANA 23 - 00188 - ROMA | E323: SCUOLA INFANZIA NON STATALE | F323: SCUOLA INFANZIA NON STATALE | G323: SCUOLA INFANZIA NON STATALE | H323: Non Disponibile | I323: Non Disponibile
A324: RM1A675001 | B324: 1A | C324: NOBILI | D324: VIA DELLA BALDUINA 281 - 00136 - ROMA | E324: SCUOLA INFANZIA NON STATALE | F324: SCUOLA INFANZIA NON STATALE | G324: SCUOLA INFANZIA NON STATALE | H324: Non Disponibile | I324: Non Disponibile
A325: RM1M09800G | B325: 1M | C325: SCUOLA MEDIA ANNIBALE MARIA DI FRANCIA | D325: CIRC.NE APPIA 146 - 00179 - ROMA | E325: SCUOLA SEC. PRIMO GRADO NON STATALE | F325: SCUOLA SEC. PRIMO GRADO NON STATALE | G325: SCUOLA SEC. PRIMO GRADO NON STATALE | H325: SCUOLAPARDIFRANCIA@TISCALI.IT | I325: Non Disponibile
A326: RMPS49500G | B326: PS | C326: PALLOTTI | D326: P.ZA REGINA PACIS 13 - 00122 - ROMA | E326: SCUOLA SEC. SECONDO GRADO NON STATALE | F326: SCUOLA SEC. SECONDO GRADO NON STATALE | G326: SCUOLA SEC. SECONDO GRADO NON STATALE | H326: vpallotti@tiscali.it | I326: Non Disponibile
A327: RM1M15000B | B327: 1M | C327: ANTONIO ROSMINI | D327: VIA AURELIA 773 - 00165 - ROMA | E327: SCUOLA SEC. PRIMO GRADO NON STATALE | F327: SCUOLA SEC. PRIMO GRADO NON STATALE | G327: SCUOLA SEC. PRIMO GRADO NON STATALE | H327: segreteria@scuolarosminiroma.it | I327: Non Disponibile
A328: RM1A68600B | B328: 1A | C328: IL REGNO DEI FOLLETTI | D328: VIA LEONARDO CAPPIELLO 18 - 00125 - ROMA | E328: SCUOLA INFANZIA NON STATALE | F328: SCUOLA INFANZIA NON STATALE | G328: SCUOLA INFANZIA NON STATALE | H328: Non Disponibile | I328: Non Disponibile
...

Sheet SEDI
A1: CODICEISTITUTORIFERIMENTO | B1: TIPOLOGIA SCUOLA | C1: DENOMINAZIONEISTITUTORIFERIMENTO | D1: CODICESCUOLA | E1: CODICEISTITUTORIFERIMENTO2 | F1: DENOMINAZIONESCUOLA | G1: Indirizzo | H1: DESCRIZIONECARATTERISTICASCUOLA | I1: tipo | J1: DESCRIZIONETIPOLOGIAGRADOISTRUZIONESCUOLA | K1: tipologia sede | L1: INDICAZIONESEDEDIRETTIVO | M1: INDIRIZZOEMAILSCUOLA | N1: INDIRIZZOPECSCUOLA
A2: RMIC82700X | B2: ISTITUTO COMPRENSIVO STATALE | C2: MELISSA BASSI | D2: RMEE827023 | E2: RMIC82700X | F2: VIA ASPERTINI | G2: VIA ASPERTINI 325 - 00133 - ROMA | H2: NORMALE | I2: statale | J2: SCUOLA PRIMARIA | K2: SCUOLA PRIMARIA STATALE | L2: NO | M2: RMIC82700X@istruzione.it | N2: Non Disponibile
A3: RMIC855004 | B3: ISTITUTO COMPRENSIVO STATALE | C3: "MARCO POLO" | D3: RMEE855016 | E3: RMIC855004 | F3: DON MOROSINI | G3: VIA PATERNO' 20 - 00133 - ROMA | H3: NORMALE | I3: statale | J3: SCUOLA PRIMARIA | K3: SCUOLA PRIMARIA STATALE | L3: NO | M3: RMIC855004@istruzione.it | N3: Non Disponibile
A4: RMIC8B1001 | B4: ISTITUTO COMPRENSIVO STATALE | C4: MARTA RUSSO | D4: RMAA8B102V | E4: RMIC8B1001 | F4: BUSTER KEATON 1 | G4: VIA BUSTER KEATON SNC - 00128 - ROMA | H4: NORMALE | I4: statale | J4: SCUOLA INFANZIA | K4: SCUOLA INFANZIA STATALE | L4: NO | M4: RMIC8B1001@istruzione.it | N4: Non Disponibile
A5: RMIC8F400V | B5: ISTITUTO COMPRENSIVO STATALE | C5: I.C. "GOFFREDO PETRASSI" | D5: RMEE8F4022 | E5: RMIC8F400V | F5: ZANDONAI | G5: VIA ZANDONAI 118 - 00194 - ROMA | H5: NORMALE | I5: statale | J5: SCUOLA PRIMARIA | K5: SCUOLA PRIMARIA STATALE | L5: NO | M5: RMIC8F400V@istruzione.it | N5: Non Disponibile
A6: RMTF02000R | B6: SCUOLA SEC. SECONDO GRADO STATALE | C6: ARMELLINI | D6: RMTF02000R | E6: RMTF02000R | F6: ARMELLINI | G6: VIA PLACIDO RICCARDI 13 - 00146 - ROMA | H6: NORMALE | I6: statale | J6: ISTITUTO TECNICO INDUSTRIALE | K6: SCUOLA SEC. SECONDO GRADO STATALE | L6: SI | M6: RMTF02000R@istruzione.it | N6: rmtf02000r@pec.istruzione.it
A7: RMIC8GW005 | B7: ISTITUTO COMPRENSIVO STATALE | C7: IC CLAUDIO ABBADO | D7: RMAA8GW023 | E7: RMIC8GW005 | F7: LEONARDA VACCARI | G7: VIALE ANGELICO 22 - 00195 - ROMA | H7: NORMALE | I7: statale | J7: SCUOLA INFANZIA | K7: SCUOLA INFANZIA STATALE | L7: NO | M7: RMIC8GW005@istruzione.it | N7: Non Disponibile
A8: RMIS09700A | B8: ISTITUTO DI ISTRUZIONE SUPERIORE | C8: CONFALONIERI-DE CHIRICO | D8: RMSL09701N | E8: RMIS09700A | F8: LARGO PANNONIA E VIA CERVETERI | G8: LARGO PANNONIA 37- VIA CERVETERI 53 - 00183 - ROMA | H8: NORMALE | I8: statale | J8: LICEO ARTISTICO | K8: SCUOLA SEC. SECONDO GRADO STATALE | L8: NO | M8: RMIS09700A@istruzione.it | N8: Non Disponibile
A9: RMIC8GS00T | B9: ISTITUTO COMPRENSIVO STATALE | C9: IC OCTAVIA | D9: RMMM8GS01V | E9: RMIC8GS00T | F9: VIA MAESTRE PIE FILIPPINI | G9: VIA MAESTRE PIE FILIPPINI 5 - 00135 - ROMA | H9: NORMALE | I9: statale | J9: SCUOLA PRIMO GRADO | K9: SCUOLA SEC. PRIMO GRADO STATALE | L9: NO | M9: RMIC8GS00T@istruzione.it | N9: Non Disponibile
A10: RMIC8EP00Q | B10: ISTITUTO COMPRENSIVO STATALE | C10: IC GIOVANNI FALCONE | D10: RMMM8EP01R | E10: RMIC8EP00Q | F10: SMS P.LE HEGEL | G10: P.LE HEGEL 6 - 00137 - ROMA | H10: NORMALE | I10: statale | J10: SCUOLA PRIMO GRADO | K10: SCUOLA SEC. PRIMO GRADO STATALE | L10: NO | M10: RMIC8EP00Q@istruzione.it | N10: Non Disponibile
A11: RMIC8BK005 | B11: ISTITUTO COMPRENSIVO STATALE | C11: I.C.S."VIA TIBURTINA ANTICA25" | D11: RMEE8BK06C | E11: RMIC8BK005 | F11: REP.ONC.UNIV.LA SAPIENZA | G11: V.LE R.ELENA 324 - 00161 - ROMA | H11: C/O IST. OSPEDALIERO | I11: statale | J11: SCUOLA PRIMARIA | K11: SCUOLA PRIMARIA STATALE | L11: NO | M11: RMIC8BK005@istruzione.it | N11: Non Disponibile
A12: RMMM67000C | B12: SCUOLA SEC. PRIMO GRADO STATALE | C12: CPIA 1 | D12: RMCT70100L | E12: RMMM67000C | F12: C.T.P. 02 | G12: VIA TIBURTINA ANTICA 25 - 00185 - ROMA | H12: NORMALE | I12: statale | J12: CENTRO TERRITORIALE | K12: CENTRO TERRITORIALE | L12: NO | M12: RMMM67000C@istruzione.it | N12: Non Disponibile
... A1048: RMIC8E900B | B1048: ISTITUTO COMPRENSIVO STATALE | C1048: I. C. ELISA SCALA | D1048: RMEE8E901D | E1048: RMIC8E900B | F1048: VIA MOTTA CAMASTRA | G1048: VIA MOTTA CAMASTRA N.155/D - 00132 - ROMA | H1048: NORMALE | I1048: statale | J1048: SCUOLA PRIMARIA | K1048: SCUOLA PRIMARIA STATALE | L1048: NO | M1048: RMIC8E900B@istruzione.it | N1048: Non Disponibile
A1049: RMPM00500N | B1049: SCUOLA SEC. SECONDO GRADO NON STATALE | C1049: COMUNITA' EBRAICA ROMA RENZO LEVI- LICEO SCIENZE SOCIALI | D1049: RMPM00500N | E1049: RMPM00500N | F1049: COMUNITA' EBRAICA ROMA RENZO LEVI- LICEO SCIENZE SOCIALI | G1049: DA INSERIRE - 00186 - ROMA | I1049: non statale | J1049: SCUOLA SEC. SECONDO GRADO NON STATALE | K1049: SCUOLA SEC. SECONDO GRADO NON STATALE | M1049: liceo.levi@romaebraica.it | N1049: Non Disponibile
A1050: RM1A39900V | B1050: SCUOLA INFANZIA NON STATALE | C1050: FAZIO | D1050: RM1A39900V | E1050: RM1A39900V | F1050: FAZIO | G1050: VIA TUSCOLANA 1111 - 00173 - ROMA | I1050: non statale | J1050: SCUOLA INFANZIA NON STATALE | K1050: SCUOLA INFANZIA NON STATALE | M1050: Non Disponibile | N1050: Non Disponibile
A1051: RM1A32400D | B1051: SCUOLA INFANZIA NON STATALE | C1051: SCUOLA MATERNA S. GIUSEPPE ALL'AURELIO | D1051: RM1A32400D | E1051: RM1A32400D | F1051: SCUOLA MATERNA S. GIUSEPPE ALL'AURELIO | G1051: VIA ADRIANO I 189 - 00166 - ROMA | I1051: non statale | J1051: SCUOLA INFANZIA NON STATALE | K1051: SCUOLA INFANZIA NON STATALE | M1051: Non Disponibile | N1051: Non Disponibile
A1052: RM1M036008 | B1052: SCUOLA SEC. PRIMO GRADO NON STATALE | C1052: SCUOLA MEDIA PADRE ANGELICO LIPANI | D1052: RM1M036008 | E1052: RM1M036008 | F1052: SCUOLA MEDIA PADRE ANGELICO LIPANI | G1052: V.NOMENTANA 954 - 00141 - ROMA | I1052: non statale | J1052: SCUOLA SEC. PRIMO GRADO NON STATALE | K1052: SCUOLA SEC. PRIMO GRADO NON STATALE | M1052: P.A.LIPANI@LIBERO.IT | N1052: Non Disponibile
A1053: RM1A234007 | B1053: SCUOLA INFANZIA NON STATALE | C1053: LA MONGOLFIERA | D1053: RM1A234007 | E1053: RM1A234007 | F1053: LA MONGOLFIERA | G1053: VIA DEGLI ORAFI 30 - 00133 - ROMA | I1053: non statale | J1053: SCUOLA INFANZIA NON STATALE | K1053: SCUOLA INFANZIA NON STATALE | M1053: Non Disponibile | N1053: Non Disponibile
A1054: RM1M030009 | B1054: SCUOLA SEC. PRIMO GRADO NON STATALE | C1054: SCUOLA MEDIA IST. S. MARIA DEGLI ANGELI | D1054: RM1M030009 | E1054: RM1M030009 | F1054: SCUOLA MEDIA IST. S. MARIA DEGLI ANGELI | G1054: V.LATTANZIO 27 - 00136 - ROMA | I1054: non statale | J1054: SCUOLA SEC. PRIMO GRADO NON STATALE | K1054: SCUOLA SEC. PRIMO GRADO NON STATALE | M1054: SMARIANGELI@TISCALI.IT | N1054: Non Disponibile
A1055: RM1E16000R | B1055: SCUOLA PRIMARIA NON STATALE | C1055: SCUOLA ELEM.PARIF. MARIA MONTESSORI | D1055: RM1E16000R | E1055: RM1E16000R | F1055: SCUOLA ELEM.PARIF. MARIA MONTESSORI | G1055: VIA TITO LIVIO 23/A - 00136 - ROMA | I1055: non statale | J1055: SCUOLA PRIMARIA NON STATALE | K1055: SCUOLA PRIMARIA NON STATALE | M1055: SEP.M.MONTESSORI@TISCALI.IT | N1055: Non Disponibile
A1056: RM1A278001 | B1056: SCUOLA INFANZIA NON STATALE | C1056: SCUOLA MATERNA CUORE IMMACOLATO DI MARIA | D1056: RM1A278001 | E1056: RM1A278001 | F1056: SCUOLA MATERNA CUORE IMMACOLATO DI MARIA | G1056: VIA COSTANTINIANA 23 - 00188 - ROMA | I1056: non statale | J1056: SCUOLA INFANZIA NON STATALE | K1056: SCUOLA INFANZIA NON STATALE | M1056: Non Disponibile | N1056: Non Disponibile
A1057: RM1A675001 | B1057: SCUOLA INFANZIA NON STATALE | C1057: NOBILI | D1057: RM1A675001 | E1057: RM1A675001 | F1057: NOBILI | G1057: VIA DELLA BALDUINA 281 - 00136 - ROMA | I1057: non statale | J1057: SCUOLA INFANZIA NON STATALE | K1057: SCUOLA INFANZIA NON STATALE | M1057: Non Disponibile | N1057: Non Disponibile
A1058: RM1M09800G | B1058: SCUOLA SEC. PRIMO GRADO NON STATALE | C1058: SCUOLA MEDIA ANNIBALE MARIA DI FRANCIA | D1058: RM1M09800G | E1058: RM1M09800G | F1058: SCUOLA MEDIA ANNIBALE MARIA DI FRANCIA | G1058: CIRC.NE APPIA 146 - 00179 - ROMA | I1058: non statale | J1058: SCUOLA SEC. PRIMO GRADO NON STATALE | K1058: SCUOLA SEC. PRIMO GRADO NON STATALE | M1058: SCUOLAPARDIFRANCIA@TISCALI.IT | N1058: Non Disponibile
A1059: RMPS49500G | B1059: SCUOLA SEC. SECONDO GRADO NON STATALE | C1059: PALLOTTI | D1059: RMPS49500G | E1059: RMPS49500G | F1059: PALLOTTI | G1059: P.ZA REGINA PACIS 13 - 00122 - ROMA | I1059: non statale | J1059: SCUOLA SEC. SECONDO GRADO NON STATALE | K1059: SCUOLA SEC. SECONDO GRADO NON STATALE | M1059: vpallotti@tiscali.it | N1059: Non Disponibile
A1060: RM1M15000B | B1060: SCUOLA SEC. PRIMO GRADO NON STATALE | C1060: ANTONIO ROSMINI | D1060: RM1M15000B | E1060: RM1M15000B | F1060: ANTONIO ROSMINI | G1060: VIA AURELIA 773 - 00165 - ROMA | I1060: non statale | J1060: SCUOLA SEC. PRIMO GRADO NON STATALE | K1060: SCUOLA SEC. PRIMO GRADO NON STATALE | M1060: segreteria@scuolarosminiroma.it | N1060: Non Disponibile
... A2011: RM1A180004 | B2011: SCUOLA INFANZIA NON STATALE | C2011: SCUOLA MATERNA M.GIUSEPPA ROSSELLO | D2011: RM1A180004 | E2011: RM1A180004 | F2011: SCUOLA MATERNA M.GIUSEPPA ROSSELLO | G2011: VIA FLAMINIA 353 - 00196 - ROMA | I2011: non statale | J2011: SCUOLA INFANZIA NON STATALE | K2011: SCUOLA INFANZIA NON STATALE | M2011: sfrosselloroma@pcn.net | N2011: Non Disponibile
A2012: RMIS121002 | B2012: SCUOLA SEC. SECONDO GRADO STATALE | C2012: GIORGI - WOOLF | D2012: RMRC121011 | E2012: RMIS121002 | F2012: IP WOOLF | H2012: NORMALE | I2012: statale | J2012: ISTITUTO PROFESSIONALE | K2012: SCUOLA SEC. SECONDO GRADO STATALE | L2012: NO | M2012: RMRC121011@ISTRUZIONE.IT | N2012: RMRC121011@PEC.ISTRUZIONE.IT

Sheet elenco sedi
